BEGIN:VCALENDAR
VERSION:2.0
PRODID:-//Kartazoon//NONSGML kigkonsult.se iCalcreator 2.41.92//
CALSCALE:GREGORIAN
METHOD:PUBLISH
UID:31633336-3632-4832-b731-316137613838
X-WR-CALNAME:iCagenda
X-WR-CALDESC:Event Management Extension for Joomla!
X-WR-RELCALID:3E26604A-50F4-4449-8B3E-E4F4932D05B5
X-WR-TIMEZONE:UTC
BEGIN:VTIMEZONE
TZID:UTC
END:VTIMEZONE
BEGIN:VEVENT
UID:62346631-6362-4334-a566-653735313531
DTSTAMP:20260423T163741Z
CATEGORIES:Öffentliche Partys
CLASS:PUBLIC
DESCRIPTION;ALTREP="CID:<FFFF__=0ABBE548DFE235B58f9e8a93d@coffeebean.com>":
 SAVE THE DATE – BLIND BIRD START!\n20 Jahre Kartazoon – was für eine Reise
 ! Zwei Jahrzehnte elektronische Kultur feiern wir mit:\nREBRATION – Varian
 ts of Electronic Styles\nSamstag\, 05.12.2026X-TRA Zürich\nEine Nacht. Ele
 ktronische Vielfalt. Pure Energie. ⚡\nDie streng limitierten Blind Bird Ti
 ckets sind jetzt online.Sichere dir dein Ticket\, bevor das Line-up enthül
 lt wird.\nWer Kartazoon kennt\, weiss:Das wird legendär. 
DTSTART:20261205T210000Z
DTEND:20261206T070000Z
GEO:00;0
LOCATION:XTRA
ORGANIZER:
SEQUENCE:1
SUMMARY:Rebration
TRANSP:OPAQUE
URL:https://kartazoon.ch/events/130-rebration
END:VEVENT
END:VCALENDAR
