BEGIN:VCALENDAR
VERSION:2.0
PRODID:-//Kartazoon//NONSGML kigkonsult.se iCalcreator 2.41.92//
CALSCALE:GREGORIAN
METHOD:PUBLISH
UID:36653161-6665-4238-a161-663931363831
X-WR-CALNAME:iCagenda
X-WR-CALDESC:Event Management Extension for Joomla!
X-WR-RELCALID:3E26604A-50F4-4449-8B3E-E4F4932D05B5
X-WR-TIMEZONE:UTC
BEGIN:VTIMEZONE
TZID:UTC
END:VTIMEZONE
BEGIN:VEVENT
UID:38623335-3231-4633-a635-353937323733
DTSTAMP:20260425T111042Z
CATEGORIES:Öffentliche Partys
CLASS:PUBLIC
DESCRIPTION;ALTREP="CID:<FFFF__=0ABBE548DFE235B58f9e8a93d@coffeebean.com>":
 Unter vorbehalt - 2.Welle - Corona - möchten wir von Kartazoon doch endlic
 h mal den ein oder andern geplanten Event - Herbst 2020 präsentieren.\nHal
 loween&nbsp\;@ Dynamo - Grosser Saal\nEs würde uns freuen viele Partygäste
  anzutreffen\, welche sich für die Halloween-Party extra in eine passende 
 Garderobe&nbsp\;werfen.\nMusic-styles:\nin variants of Techno\n&nbsp\;\n\n
 \nProgramm\nMainfloor / Line-up comming soon\nSidefloor / Line-up comming 
 soon\n\n\n&nbsp\;\nDresscode (erwünscht) = Du erhälst am Eingang einen Get
 ränkebons im Wert von CHF 10.-\n&nbsp\;\nSpecials:&nbsp\;\n- Foodcorner mi
 t Kuchen &amp\; Sandwiches\, Kaffee &amp\; Tee\, sowie weiteren Angeboten
 \n- Grosszügige Chillout Area direkt an der Limmat\n- Halloween-Deko\n- Fu
 moir\n\nTicketvorverkauf via Eventfrog:\nDer VVK wird aufgeschaltet\, soba
 ld wir wissen\, ob wir den Event am 31.10.2020 durchführen können.\nAbendk
 asse\nWir werden mit Sicherheit Tickets für die Abendkasse zurückhalten\, 
 wenn du jedoch mit Garantie am Anlass teilhaben möchtest empfehlen wir dir
 \, frühzeitig im VVK ein Ticket zu bestellen.\nBeginn: 21:00 UhrEnde: 06:0
 0 Uhr\nAnreise:\n- Zu Fuss 10 Minuten vom Hauptbahnhof-&nbsp\;Tram nr. 11 
 oder Tram Nr. 14 ab Bahnhofquai/HB bis Beckenhof\nLocation:\nDYNAMO Wasser
 werkstr. 21 8006 Zürich www.dynamo.ch\nRollstuhlplätze: normales Ticket\nA
 ltersbeschränkung: 18+
DTSTART:20201031T210000Z
DTEND:20201101T060000Z
GEO:00;0
LOCATION:Grosser Saal Dynamo
ORGANIZER:
SEQUENCE:1
SUMMARY:Halloween
TRANSP:OPAQUE
URL:https://kartazoon.ch/events/events-archiv/118-halloween-2
END:VEVENT
END:VCALENDAR
