BEGIN:VCALENDAR
VERSION:2.0
PRODID:-//Kartazoon//NONSGML kigkonsult.se iCalcreator 2.41.92//
CALSCALE:GREGORIAN
METHOD:PUBLISH
UID:63366232-3539-4663-a332-393632636337
X-WR-CALNAME:iCagenda
X-WR-CALDESC:Event Management Extension for Joomla!
X-WR-RELCALID:3E26604A-50F4-4449-8B3E-E4F4932D05B5
X-WR-TIMEZONE:UTC
BEGIN:VTIMEZONE
TZID:UTC
END:VTIMEZONE
BEGIN:VEVENT
UID:30303766-6166-4165-b432-316530303863
DTSTAMP:20260424T002033Z
CATEGORIES:In Kollaboration mit ...
CLASS:PUBLIC
DESCRIPTION;ALTREP="CID:<FFFF__=0ABBE548DFE235B58f9e8a93d@coffeebean.com>":
 Hier gehts zum Anmeldeformular\nhttp://www.ssobp.ch/?p=league_tournaments
 \n&nbsp\;
DTSTART:20150912T150000Z
DTEND:20150912T210000Z
GEO:+47.395519;+8.598752
LOCATION:Club Dampf
ORGANIZER:
SEQUENCE:1
SUMMARY:Beer-Pong_1
TRANSP:OPAQUE
URL:https://kartazoon.ch/events/events-archiv/8-beer-pong
END:VEVENT
END:VCALENDAR
