BEGIN:VCALENDAR
VERSION:2.0
PRODID:-//Kartazoon//NONSGML kigkonsult.se iCalcreator 2.41.92//
CALSCALE:GREGORIAN
METHOD:PUBLISH
UID:36316564-3439-4333-b834-316466373531
X-WR-CALNAME:iCagenda
X-WR-CALDESC:Event Management Extension for Joomla!
X-WR-RELCALID:3E26604A-50F4-4449-8B3E-E4F4932D05B5
X-WR-TIMEZONE:UTC
BEGIN:VTIMEZONE
TZID:UTC
END:VTIMEZONE
BEGIN:VEVENT
UID:65356564-3664-4266-b161-363534313862
DTSTAMP:20260425T123932Z
CATEGORIES:Kartazoon Mitglieder
CLASS:PUBLIC
DESCRIPTION;ALTREP="CID:<FFFF__=0ABBE548DFE235B58f9e8a93d@coffeebean.com>":
 Plasma night\n\nSei dabei und geniesse mit uns die erste Plasma night im C
 lub Dampf in Dübendorf\n&nbsp\;\nSpecials:\n20.00 - 22.00 Apero &amp\; Fin
 gerfood - nur für geladene Gäste\n20.00 - 23.00 wird das Lokal rauchfrei b
 leiben\n&nbsp\;\n\nMusic-styles:\nin variants of trance / progressive / te
 chno\nLine-up:\n\n&nbsp\;\n20:00 - 22:00 Vania (supported by RafFX)\n 22:0
 0 - 24:00 Indian \n24:00 - 2:00 Simple \n2:00 - 5:00 Dream \n5:00 - 6:00 V
 anja \n6:00 - open end Gregg\n&nbsp\;\n\nDer Einlass gilt nur für Members.
  Jeder Gast muss mindestens eine Tagesmitgliedschaft (Kostenpunkt: CHF 10)
  beantragen! Die Location befindet sich im Otto Rupf-Gebäude - Eingang bei
  der Tiefgarage. Zu Fuss ca. 4 Minuten vom Bahnhof Stettbach entfernt. Rei
 chlich Parkplätze um das Gebäude sind vorhanden.\n&nbsp\;\nMemberbeitrag =
  CHF 10.- / Person (siehe Statuten 2019)\n&nbsp\;\nJeder Member\, welcher 
 die CHF 10.- bezahlt hat\, wird bei der Eingangskontrolle für diesen Anlas
 s einen zusätzlichen Getränkebons für ein Bier oder Softgetränk erhalten)
 \n\n.............Die Mitgliederbeiträge für das Jahr 2019 bleiben unveränd
 ert bei 30 CHF. Was jedoch neu hinzukommen wird\, sind zusätzliche Kosten 
 von 10 bis 20 CHF pro Anlass\, welcher besucht werden will. Die Höhe der T
 agesmitgliedschaft wird selbstverständlich durch den Vorstand und nicht wi
 e im Jahre 2017 unglücklicherweise falsch formuliert wurde durch die GV fe
 stgelegt. Die Kosten werden leicht angepasst und belaufen sich je nach Auf
 wand des Anlasses zwischen 10 bis 30 CHF. Ziel dieser Anpassungen ist die 
 alleinige Finanzierung einer neuen Musikanlage\, Mischpult\, 2 CD-Playern 
 sowie weiteren Anschaffungen von Lichteffekten etc.\n\n\n\n\n\n\n\nHier ge
 ht's zum Memberantrag
DTSTART:20190216T220000Z
DTEND:20190217T080000Z
GEO:+47.395519;+8.598752
LOCATION:Club Dampf
ORGANIZER:
SEQUENCE:1
SUMMARY:Plasma night
TRANSP:OPAQUE
URL:https://kartazoon.ch/events/events-archiv/86-plasma-night
END:VEVENT
END:VCALENDAR
